BEGIN:VCALENDAR
VERSION:2.0
PRODID:spatie/icalendar-generator
DESCRIPTION:Events from STEM K-8 PTA
X-WR-CALDESC:Events from STEM K-8 PTA
REFRESH-INTERVAL;VALUE=DURATION:PT1440M
X-PUBLISHED-TTL:PT1440M
BEGIN:VTIMEZONE
TZID:America/Los_Angeles
BEGIN:STANDARD
DTSTART:20251102T020000Z
TZOFFSETFROM:-0700
TZOFFSETTO:-0800
END:STANDARD
BEGIN:DAYLIGHT
DTSTART:20260308T020000Z
TZOFFSETFROM:-0800
TZOFFSETTO:-0700
END:DAYLIGHT
END:VTIMEZONE
BEGIN:VTIMEZONE
TZID:UTC
BEGIN:STANDARD
DTSTART:20250727T101730Z
TZOFFSETFROM:+0000
TZOFFSETTO:+0000
END:STANDARD
END:VTIMEZONE
BEGIN:VEVENT
UID:423-246
DTSTAMP:20260423T101730Z
SUMMARY:Field Day
LOCATION:School 5950 Delridge Way SW  Seattle WA 98106
ORGANIZER;CN=Christy Markham:MAILTO:christy@stemk8pta.org
DTSTART;TZID=America/Los_Angeles;VALUE=DATE:20260422
DTEND;TZID=America/Los_Angeles;VALUE=DATE:20260423
X-ALT-DESC;FMTTYPE=TEXT/HTML:
CATEGORIES:School/SPS
URL;VALUE=URI:https://stemk8pta.org/mc-events/field-day/
METHOD:PUBLISH
END:VEVENT
END:VCALENDAR