BEGIN:VCALENDAR
VERSION:2.0
PRODID:spatie/icalendar-generator
DESCRIPTION:Events from STEM K-8 PTA
X-WR-CALDESC:Events from STEM K-8 PTA
REFRESH-INTERVAL;VALUE=DURATION:PT1440M
X-PUBLISHED-TTL:PT1440M
BEGIN:VTIMEZONE
TZID:America/Los_Angeles
BEGIN:STANDARD
DTSTART:20241103T020000Z
TZOFFSETFROM:-0700
TZOFFSETTO:-0800
END:STANDARD
BEGIN:DAYLIGHT
DTSTART:20250309T020000Z
TZOFFSETFROM:-0800
TZOFFSETTO:-0700
END:DAYLIGHT
END:VTIMEZONE
BEGIN:VTIMEZONE
TZID:UTC
BEGIN:STANDARD
DTSTART:20250725T050943Z
TZOFFSETFROM:+0000
TZOFFSETTO:+0000
END:STANDARD
END:VTIMEZONE
BEGIN:VEVENT
UID:153-105
DTSTAMP:20260421T050943Z
SUMMARY:PTA General Meeting - 6:30-8pm - VIRTUAL ONLY
LOCATION:
ORGANIZER;CN=Christy Markham:MAILTO:christy@stemk8pta.org
DTSTART;TZID=America/Los_Angeles:20250212T183000
DTEND;TZID=America/Los_Angeles:20250212T200000
X-ALT-DESC;FMTTYPE=TEXT/HTML:Join us for our monthly general PTA meeting fr
 om 6:30-8pm.  Every voice matters! Because of the snowy forecast\, this m
 onth's meeting will be VIRTUAL-ONLY! (See PTA emails and Owl Post for Zoom
  link.)
CATEGORIES:General PTA Meeting
URL;VALUE=URI:https://stemk8pta.org/mc-events/pta-general-meeting-630-8pm-v
 irtual-only/
METHOD:PUBLISH
END:VEVENT
END:VCALENDAR