BEGIN:VCALENDAR
VERSION:2.0
PRODID:spatie/icalendar-generator
DESCRIPTION:Events from STEM K-8 PTA
X-WR-CALDESC:Events from STEM K-8 PTA
REFRESH-INTERVAL;VALUE=DURATION:PT1440M
X-PUBLISHED-TTL:PT1440M
BEGIN:VTIMEZONE
TZID:America/Los_Angeles
BEGIN:STANDARD
DTSTART:20251102T020000Z
TZOFFSETFROM:-0700
TZOFFSETTO:-0800
END:STANDARD
BEGIN:DAYLIGHT
DTSTART:20260308T020000Z
TZOFFSETFROM:-0800
TZOFFSETTO:-0700
END:DAYLIGHT
BEGIN:STANDARD
DTSTART:20261101T020000Z
TZOFFSETFROM:-0700
TZOFFSETTO:-0800
END:STANDARD
END:VTIMEZONE
BEGIN:VTIMEZONE
TZID:UTC
BEGIN:STANDARD
DTSTART:20250728T184820Z
TZOFFSETFROM:+0000
TZOFFSETTO:+0000
END:STANDARD
END:VTIMEZONE
BEGIN:VEVENT
UID:424-164
DTSTAMP:20260424T184820Z
SUMMARY:Staff Appreciation Week!
LOCATION:
ORGANIZER;CN=Admin:MAILTO:admin@k8stempta.com
DTSTART;TZID=America/Los_Angeles;VALUE=DATE:20260504
DTEND;TZID=America/Los_Angeles;VALUE=DATE:20260509
X-ALT-DESC;FMTTYPE=TEXT/HTML:We love our STEM Staff!! Help celebrate them w
 ith yummy food and treats all week long! Several themed days planned- see 
 SignUp Genius to participate. Questions? staffappreciation@stemk8pta.org
CATEGORIES:PTA Event
URL;VALUE=URI:https://stemk8pta.org/mc-events/staff-appreciation-week-2/
METHOD:PUBLISH
END:VEVENT
END:VCALENDAR