BEGIN:VCALENDAR
VERSION:2.0
PRODID:spatie/icalendar-generator
DESCRIPTION:Events from STEM K-8 PTA
X-WR-CALDESC:Events from STEM K-8 PTA
REFRESH-INTERVAL;VALUE=DURATION:PT1440M
X-PUBLISHED-TTL:PT1440M
BEGIN:VTIMEZONE
TZID:America/Los_Angeles
BEGIN:STANDARD
DTSTART:20241103T020000Z
TZOFFSETFROM:-0700
TZOFFSETTO:-0800
END:STANDARD
BEGIN:DAYLIGHT
DTSTART:20250309T020000Z
TZOFFSETFROM:-0800
TZOFFSETTO:-0700
END:DAYLIGHT
END:VTIMEZONE
BEGIN:VTIMEZONE
TZID:UTC
BEGIN:STANDARD
DTSTART:20250727T082559Z
TZOFFSETFROM:+0000
TZOFFSETTO:+0000
END:STANDARD
END:VTIMEZONE
BEGIN:VEVENT
UID:159-111
DTSTAMP:20260423T082559Z
SUMMARY:Mid-Winter Break - NO SCHOOL
LOCATION:
ORGANIZER;CN=Christy Markham:MAILTO:christy@stemk8pta.org
DTSTART;TZID=America/Los_Angeles;VALUE=DATE:20250218
DTEND;TZID=America/Los_Angeles;VALUE=DATE:20250223
X-ALT-DESC;FMTTYPE=TEXT/HTML:
CATEGORIES:General
URL;VALUE=URI:https://stemk8pta.org/mc-events/mid-winter-break-no-school/
METHOD:PUBLISH
END:VEVENT
END:VCALENDAR